BEGIN:VCALENDAR
VERSION:2.0
PRODID:-//Smokies Adventure - ECPv6.15.17.1//NONSGML v1.0//EN
CALSCALE:GREGORIAN
METHOD:PUBLISH
X-WR-CALNAME:Smokies Adventure
X-ORIGINAL-URL:https://www.smokiesadventure.com
X-WR-CALDESC:Events for Smokies Adventure
REFRESH-INTERVAL;VALUE=DURATION:PT1H
X-Robots-Tag:noindex
X-PUBLISHED-TTL:PT1H
BEGIN:VTIMEZONE
TZID:America/Halifax
BEGIN:DAYLIGHT
TZOFFSETFROM:-0400
TZOFFSETTO:-0300
TZNAME:ADT
DTSTART:20220313T060000
END:DAYLIGHT
BEGIN:STANDARD
TZOFFSETFROM:-0300
TZOFFSETTO:-0400
TZNAME:AST
DTSTART:20221106T050000
END:STANDARD
BEGIN:DAYLIGHT
TZOFFSETFROM:-0400
TZOFFSETTO:-0300
TZNAME:ADT
DTSTART:20230312T060000
END:DAYLIGHT
BEGIN:STANDARD
TZOFFSETFROM:-0300
TZOFFSETTO:-0400
TZNAME:AST
DTSTART:20231105T050000
END:STANDARD
BEGIN:DAYLIGHT
TZOFFSETFROM:-0400
TZOFFSETTO:-0300
TZNAME:ADT
DTSTART:20240310T060000
END:DAYLIGHT
BEGIN:STANDARD
TZOFFSETFROM:-0300
TZOFFSETTO:-0400
TZNAME:AST
DTSTART:20241103T050000
END:STANDARD
END:VTIMEZONE
BEGIN:VEVENT
DTSTART;TZID=America/Halifax:20230603T183000
DTEND;TZID=America/Halifax:20230603T213000
DTSTAMP:20260421T095246
CREATED:20220809T155518Z
LAST-MODIFIED:20230530T164413Z
UID:12183-1685817000-1685827800@www.smokiesadventure.com
SUMMARY:Smoky Blue Rain
DESCRIPTION:Smoky Blue Rain is the trio of Len Graham\, Phil Moore\, and Amos Jackson. Their brand of Americana music is an infectious blend of folk\, light rock\, blues\, jazz\, and a touch of traditional country. They met through a mutual friend and from the very first note realized they had something special.Len has been honing his songwriting craft for well over 40 years now. His songs are streamed all over the world and his inspiration is now taken from the hollers and characters found here in the beautiful Smoky Mountains. Rich three-part harmonies\, piano\, acoustic and electric guitars\, and harmonicas define their sound which also includes some classic covers from the 60’s and 70’s. \nSmoky Blue Rain is back and ready to share their music with you. \nStarting at 6:30pm in the Meadowlark Pavilion.\nCost: $10 cover\nCall 828- 926- 1717 for more info!
URL:https://www.smokiesadventure.com/smokymountain-events/smoky-blue-rain/
LOCATION:Meadowlark Motel\, 2878 Soco Road\, Maggie Valley\, 28751\, United States
CATEGORIES:Live Music at the Meadowlark Motel,Meadowlark Motel Events,Meadowlark Music Events,Meadowlark Smoky Mountain Heritage Center Events,Music Events
ATTACH;FMTTYPE=image/jpeg:https://www.smokiesadventure.com/wp-content/uploads/2022/08/Smoky-Blue-Rain.jpg
ORGANIZER;CN="Meadowlark Smoky Mountain Heritage Center":MAILTO:reservations@meadowlarkmotel.com
END:VEVENT
END:VCALENDAR